BEGIN:VCALENDAR
VERSION:2.0
PRODID:-//United Cerebral Palsy of the Inland Empire - ECPv6.15.20//NONSGML v1.0//EN
CALSCALE:GREGORIAN
METHOD:PUBLISH
X-WR-CALNAME:United Cerebral Palsy of the Inland Empire
X-ORIGINAL-URL:https://ucpie.org
X-WR-CALDESC:Events for United Cerebral Palsy of the Inland Empire
REFRESH-INTERVAL;VALUE=DURATION:PT1H
X-Robots-Tag:noindex
X-PUBLISHED-TTL:PT1H
BEGIN:VTIMEZONE
TZID:America/Los_Angeles
BEGIN:DAYLIGHT
TZOFFSETFROM:-0800
TZOFFSETTO:-0700
TZNAME:PDT
DTSTART:20250309T100000
END:DAYLIGHT
BEGIN:STANDARD
TZOFFSETFROM:-0700
TZOFFSETTO:-0800
TZNAME:PST
DTSTART:20251102T090000
END:STANDARD
BEGIN:DAYLIGHT
TZOFFSETFROM:-0800
TZOFFSETTO:-0700
TZNAME:PDT
DTSTART:20260308T100000
END:DAYLIGHT
BEGIN:STANDARD
TZOFFSETFROM:-0700
TZOFFSETTO:-0800
TZNAME:PST
DTSTART:20261101T090000
END:STANDARD
BEGIN:DAYLIGHT
TZOFFSETFROM:-0800
TZOFFSETTO:-0700
TZNAME:PDT
DTSTART:20270314T100000
END:DAYLIGHT
BEGIN:STANDARD
TZOFFSETFROM:-0700
TZOFFSETTO:-0800
TZNAME:PST
DTSTART:20271107T090000
END:STANDARD
END:VTIMEZONE
BEGIN:VEVENT
DTSTART;TZID=America/Los_Angeles:20260207T080000
DTEND;TZID=America/Los_Angeles:20260207T170000
DTSTAMP:20260422T075300
CREATED:20251110T212158Z
LAST-MODIFIED:20251120T222906Z
UID:9680-1770451200-1770483600@ucpie.org
SUMMARY:Tour de Palm Springs 2026
DESCRIPTION:Join our UCPIE Team Freedom at this year’s Tour de Palm Springs. \nJoin UCPIE’s Team FreedomSPONSORSHIP OPPORTUNITIES
URL:https://ucpie.org/event/tour-de-palm-springs-2026/
LOCATION:CA
CATEGORIES:UCPIE Events
ATTACH;FMTTYPE=image/png:https://ucpie.org/wp-content/uploads/2025/11/TDPS-Logo-White-2.png
END:VEVENT
BEGIN:VEVENT
DTSTART;TZID=America/Los_Angeles:20260124T163000
DTEND;TZID=America/Los_Angeles:20260124T183000
DTSTAMP:20260422T075300
CREATED:20251110T210958Z
LAST-MODIFIED:20251110T221056Z
UID:9662-1769272200-1769279400@ucpie.org
SUMMARY:The Gardens 28th Annual Concert Series
DESCRIPTION:The Gardens on El Paseo kicks off its Annual Concert Series on January 17\, 2026. For 28 years\, The Gardens on El Paseo has brought together the Coachella Valley community to support local non-profits\, musicians\, and organizations\, and through this effort we have raised over $1.5 million dollars for local charities. Reserve your tickets now and wine down with us on the Center Lawn\, Saturday evenings to support your community. \nThe concert series is proud to welcome Red Jeep Tours as the Title Sponsor of this year’s concert series. As a locally rooted business known for their deep knowledge of the desert and commitment to exceptional experiences\, their support helps us bring the community together through music in a meaningful way. \nHow can you support UCPIE? \nUCPIE is proud to be benefiting on the Saturday January 24th\, 2026 for the Harmony of Rock (70’s Tribute) \nPurchase January 24th Tickets Here
URL:https://ucpie.org/event/the-gardens-28th-annual-concert-series/
LOCATION:The Gardens on El Paseo\, 73545 El Paseo\, Palm Desert\, CA\, 92260
CATEGORIES:UCPIE Events
ATTACH;FMTTYPE=image/png:https://ucpie.org/wp-content/uploads/2025/11/CONCERT-SERIES.png
END:VEVENT
END:VCALENDAR